BEGIN:VCALENDAR
PRODID:-//Kentico Software//NONSGML Kentico CMS//EN
VERSION:2.0
BEGIN:VEVENT
UID:5499328e-846d-4e94-927d-0c7cdbc5037d@czechinvest.gov.cz
DTSTAMP:20260421T003038Z
DTSTART:20201014T070000Z
DTEND:20201014T100000Z
LOCATION:ONLINE
DESCRIPTION:V průběhu semináře budete moci sdílet zkušenosti s odborníky v oboru. Diskutovat se bude například nad zkušenostmi firem s prací zaměstnanců z domova nebo nad tím, jaké změny přináší pandemie z hlediska zdravotnických aspektů ve výrobě nebo v kancelářích.Vstup na akci je zdarma.\n\nONLINE
SUMMARY:ONLINE: HR Point 2020 - Hradec Králové
PRIORITY:3
BEGIN:VALARM
TRIGGER:P0DT0H15M
ACTION:DISPLAY
DESCRIPTION:Reminder
END:VALARM
END:VEVENT
END:VCALENDAR
