BEGIN:VCALENDAR
PRODID:-//Kentico Software//NONSGML Kentico CMS//EN
VERSION:2.0
BEGIN:VEVENT
UID:e9079b09-82f7-4187-b8a0-c8845a512a54@czechinvest.gov.cz
DTSTAMP:20260421T002412Z
DTSTART:20201111T080000Z
DTEND:20201111T110000Z
LOCATION:Cukrárna Ollies, Výstavní 2968/108, 703 00 Ostrava – Vítkovice
DESCRIPTION:V průběhu semináře budete moci sdílet zkušenosti s odborníky v oboru. Diskutovat se bude například nad zkušenostmi firem s prací zaměstnanců z domova nebo nad tím, jaké změny přináší pandemie z hlediska zdravotnických aspektů ve výrobě nebo v kancelářích.Vstup na akci je zdarma.\n\nCukrárna Ollies, Výstavní 2968/108, 703 00 Ostrava – Vítkovice
SUMMARY:HR Point 2020 - Ostrava
PRIORITY:3
BEGIN:VALARM
TRIGGER:P0DT0H15M
ACTION:DISPLAY
DESCRIPTION:Reminder
END:VALARM
END:VEVENT
END:VCALENDAR
