BEGIN:VCALENDAR
PRODID:-//Kentico Software//NONSGML Kentico CMS//EN
VERSION:2.0
BEGIN:VEVENT
UID:969f5bcd-4381-4bf0-ba65-e861472348f7@czechinvest.gov.cz
DTSTAMP:20260424T114317Z
DTSTART:20220608T070000Z
DTEND:20220608T090000Z
LOCATION:Setkání se uskuteční online v aplikaci Zoom. Akce je zdarma.Registrace otevřeme od 1. dubna do 7. června 2022. Odkaz k připojení bude přihlášeným účastníkům zaslán den před konáním akce.
Vaše osobní údaje budou použity pouze pro účely realizace této marketingové akce.
 
DESCRIPTION:Radka Legerská\n\nObsahový stratég, copywriterka a mentorka\n\nRadčiny reference jsou skvělé. Její zákazníci píšou, že její texty dojmou k slzám a donutí otočit život o 180 stupňů. Radka svými texty plní obchodní cíle firem. Zvládá psát perfektní texty pro lidi. A díky tomu má obrovský přesah do SEO. Milují ji nejenom klienti, ale i vyhledávače.\n\nVíce na https://www.linkedin.com/in/radka-legerska\n\n \n\nSetkání se uskuteční online v aplikaci Zoom. Akce je zdarma.\nRegistrace otevřeme od 1. dubna do 7. června 2022. Odkaz k připojení bude přihlášeným účastníkům zaslán den před konáním akce.\n\nVaše osobní údaje budou použity pouze pro účely realizace této marketingové akce.\n 
SUMMARY:ONLINE: Akademie podnikavých žen 2022 - Jak psát texty, které prodávají s Radkou Legerskou
PRIORITY:3
BEGIN:VALARM
TRIGGER:P0DT0H15M
ACTION:DISPLAY
DESCRIPTION:Reminder
END:VALARM
END:VEVENT
END:VCALENDAR
