BEGIN:VCALENDAR
PRODID:-//Kentico Software//NONSGML Kentico CMS//EN
VERSION:2.0
BEGIN:VEVENT
UID:fd2127ff-ec7d-41d9-acd5-918529682cac@czechinvest.gov.cz
DTSTAMP:20260422T124527Z
DTSTART:20221025T070000Z
DTEND:20221025T140000Z
DESCRIPTION:\n\n
SUMMARY:ONLINE: Konzultační den pro podnikatele z Ústeckého kraje
PRIORITY:3
BEGIN:VALARM
TRIGGER:P0DT0H15M
ACTION:DISPLAY
DESCRIPTION:Reminder
END:VALARM
END:VEVENT
END:VCALENDAR
