BEGIN:VCALENDAR
PRODID:-//Kentico Software//NONSGML Kentico CMS//EN
VERSION:2.0
BEGIN:VEVENT
UID:9dc5b28e-5b44-44e9-a038-fe9a209dff33@czechinvest.gov.cz
DTSTAMP:20260422T142055Z
DTSTART:20221026T130000Z
DTEND:20221026T153000Z
LOCATION:Inovační centrum Ústeckého kraje (ICUK)
Velká Hradební 2800/54, 400 01 Ústí nad Labem
DESCRIPTION:Workshop pořádá Agentura pro podporu podnikání a investic CzechInvest ve spolupráci s Platformou žen Ústeckého kraje. Celý workshop povede Lída Dubinská, expertka na obsahový marketing.\n\nInovační centrum Ústeckého kraje (ICUK)\nVelká Hradební 2800/54, 400 01 Ústí nad Labem
SUMMARY:Setkání podnikavých žen z Ústeckého kraje
PRIORITY:3
BEGIN:VALARM
TRIGGER:P0DT0H15M
ACTION:DISPLAY
DESCRIPTION:Reminder
END:VALARM
END:VEVENT
END:VCALENDAR
